BEGIN:VCALENDAR
VERSION:2.0
PRODID:-//wp-events-plugin.com//7.2.3.1//EN
BEGIN:VEVENT
UID:6@isselburger-blasorchester.de
DTSTART;VALUE=DATE:20260620
DTEND;VALUE=DATE:20260623
DTSTAMP:20260111T173637Z
URL:https://www.isselburger-blasorchester.de/veranstaltungen/schuetzenfest
 -millingen/
SUMMARY:Schützenfest Millingen
DESCRIPTION:
LOCATION:Schützenfestplatz Millingen\, Millinger Str.\, Millingen\, 46459\
 , Deutschland
GEO:51.809734;6.39243
X-APPLE-STRUCTURED-LOCATION;VALUE=URI;X-ADDRESS=Millinger Str.\, Millingen\
 , 46459\, Deutschland;X-APPLE-RADIUS=100;X-TITLE=Schützenfestplatz Millin
 gen:geo:51.809734,6.39243
END:VEVENT
END:VCALENDAR